BEGIN:VCALENDAR
PRODID:-//eluceo/ical//2.0/EN
VERSION:2.0
CALSCALE:GREGORIAN
BEGIN:VEVENT
UID:416acaa18aecff4567be9d273355cb4b
DTSTAMP:20260422T031135Z
SUMMARY:Jewish Community Center Senior Adult Volunteer Luncheon
DESCRIPTION:Jewish Federation of Central Massachusetts\nCalendar\nhttps://j
 ewishcentralmass.org/calendar/jewish-community-center-senior-adult-volunte
 er-luncheon\n\nJCC Senior Adult Vol Luncheon
DTSTART;TZID=America/New_York:20140430T120000
DTEND;TZID=America/New_York:20140514T123000
END:VEVENT
END:VCALENDAR
