BEGIN:VCALENDAR
PRODID:-//eluceo/ical//2.0/EN
VERSION:2.0
CALSCALE:GREGORIAN
BEGIN:VEVENT
UID:e0daab6bf22557c5a76b4f4a3db740b0
DTSTAMP:20260423T085527Z
SUMMARY:Jewish Community Center Senior Adult Luncheon
DESCRIPTION:Jewish Federation of Central Massachusetts\nCalendar\nhttps://j
 ewishcentralmass.org/calendar/jewish-community-center-senior-adult-luncheo
 n\n\nJCC Senior Adult Luncheon
DTSTART;TZID=America/New_York:20130508T120000
DTEND;TZID=America/New_York:20130508T123000
END:VEVENT
END:VCALENDAR
