BEGIN:VCALENDAR
PRODID:-//eluceo/ical//2.0/EN
VERSION:2.0
CALSCALE:GREGORIAN
BEGIN:VEVENT
UID:8a218b970ecf13731587e19037656a14
DTSTAMP:20260422T071210Z
SUMMARY:Jewish Community Center Senior Adult Interfaith Seder
DESCRIPTION:Jewish Federation of Central Massachusetts\nCalendar\nhttps://j
 ewishcentralmass.org/calendar/jewish-community-center-senior-adult-interfa
 ith-seder\n\nSenior Adult Interfaith Seder at Worcester Senior Center
DTSTART;TZID=America/New_York:20150324T120000
DTEND;TZID=America/New_York:20150324T140000
END:VEVENT
END:VCALENDAR
