BEGIN:VCALENDAR
PRODID:-//eluceo/ical//2.0/EN
VERSION:2.0
CALSCALE:GREGORIAN
BEGIN:VEVENT
UID:49b613756c1fd0ad2b5c104c4f43fe2c
DTSTAMP:20260422T020709Z
SUMMARY:Jewish Community Center Red Carpet Casino Night & Auction (tentativ
 e)
DESCRIPTION:Jewish Federation of Central Massachusetts\nCalendar\nhttps://j
 ewishcentralmass.org/calendar/jewish-community-center-red-carpet-casino-ni
 ght--auction-tentative\n\nJCC Casino Night
DTSTART;TZID=America/New_York:20140301T180000
DTEND;TZID=America/New_York:20140301T220000
END:VEVENT
END:VCALENDAR
