BEGIN:VCALENDAR
PRODID:-//eluceo/ical//2.0/EN
VERSION:2.0
CALSCALE:GREGORIAN
BEGIN:VEVENT
UID:355fcba4137d474a88a8bebb73813762
DTSTAMP:20260423T112514Z
SUMMARY:Jewish Community Center Film Series
DESCRIPTION:Jewish Federation of Central Massachusetts\nCalendar\nhttps://j
 ewishcentralmass.org/calendar/jewish-community-center-film-series\n\nJCC F
 ilm Series
DTSTART;TZID=America/New_York:20130119T190000
DTEND;TZID=America/New_York:20130119T193000
END:VEVENT
END:VCALENDAR
