BEGIN:VCALENDAR
PRODID:-//eluceo/ical//2.0/EN
VERSION:2.0
CALSCALE:GREGORIAN
BEGIN:VEVENT
UID:e150529bc7ce8b4f43422d10c9d66450
DTSTAMP:20260420T215902Z
SUMMARY:Jewish Community Center Film Festival
DESCRIPTION:Jewish Federation of Central Massachusetts\nCalendar\nhttps://j
 ewishcentralmass.org/calendar/jewish-community-center-film-festival_YooHoo
 MrsGoldberg\n\nJewish Community Center Film Festival  \n\n"Yoo-Hoo Mrs. G
 oldberg"\n\nEncore Showing ~ Free
DTSTART;TZID=America/New_York:20160122T130000
DTEND;TZID=America/New_York:20160122T150000
END:VEVENT
END:VCALENDAR
