BEGIN:VCALENDAR
PRODID:-//eluceo/ical//2.0/EN
VERSION:2.0
CALSCALE:GREGORIAN
BEGIN:VEVENT
UID:1b9c84914edf4ef587289dc2c0ffbcf1
DTSTAMP:20260422T071140Z
SUMMARY:Jewish Community Center Film Festival
DESCRIPTION:Jewish Federation of Central Massachusetts\nCalendar\nhttps://j
 ewishcentralmass.org/calendar/jewish-community-center-film-festival_Apples
 FromTheDesert\n\nJewish Community Center Film Festival\n\n"Apples From The
  Desert"
DTSTART;TZID=America/New_York:20160202T191500
DTEND;TZID=America/New_York:20160202T220000
END:VEVENT
END:VCALENDAR
