BEGIN:VCALENDAR
PRODID:-//eluceo/ical//2.0/EN
VERSION:2.0
CALSCALE:GREGORIAN
BEGIN:VEVENT
UID:b5eecbc5aa66253ea8311b66e6612553
DTSTAMP:20260420T130554Z
SUMMARY:Jewish Community Center Film Festival
DESCRIPTION:Jewish Federation of Central Massachusetts\nCalendar\nhttps://j
 ewishcentralmass.org/calendar/jewish-community-center-film-festival45\n\nJ
 ewish Community Center Film Festival\n\n"Raise The Roof"
DTSTART;TZID=America/New_York:20160131T190000
DTEND;TZID=America/New_York:20160131T220000
END:VEVENT
END:VCALENDAR
