BEGIN:VCALENDAR
PRODID:-//eluceo/ical//2.0/EN
VERSION:2.0
CALSCALE:GREGORIAN
BEGIN:VEVENT
UID:83bfc1517296d190542636b7a05db11f
DTSTAMP:20260420T205448Z
SUMMARY:Jewish Community Center Film Festival
DESCRIPTION:Jewish Federation of Central Massachusetts\nCalendar\nhttps://j
 ewishcentralmass.org/calendar/jewish-community-center-film-festival\n\nJCC
  Film Festival
DTSTART;TZID=America/New_York:20140118T190000
DTEND;TZID=America/New_York:20140118T193000
END:VEVENT
END:VCALENDAR
