BEGIN:VCALENDAR
PRODID:-//eluceo/ical//2.0/EN
VERSION:2.0
CALSCALE:GREGORIAN
BEGIN:VEVENT
UID:35097b49b8835bc8f12f9c7d9ab80fc6
DTSTAMP:20260423T161924Z
SUMMARY:Jewish Community Center Film Fest Encore Double Feature
DESCRIPTION:Jewish Federation of Central Massachusetts\nCalendar\nhttps://j
 ewishcentralmass.org/calendar/jewish-community-center-film-fest-encore-dou
 ble-feature\n\nFilm Fest Encore Double Feature at St. John's High School
DTSTART;TZID=America/New_York:20150419T130000
DTEND;TZID=America/New_York:20150419T170000
END:VEVENT
END:VCALENDAR
