BEGIN:VCALENDAR
PRODID:-//eluceo/ical//2.0/EN
VERSION:2.0
CALSCALE:GREGORIAN
BEGIN:VEVENT
UID:30e3e780275e09fcfb368a99c877ede9
DTSTAMP:20260422T110557Z
SUMMARY:Jewish Community Center Casino Night
DESCRIPTION:Jewish Federation of Central Massachusetts\nCalendar\nhttps://j
 ewishcentralmass.org/calendar/jewish-community-center-casino-night\n\nJCC 
 Casino Night
DTSTART;TZID=America/New_York:20130202T180000
DTEND;TZID=America/New_York:20130202T230000
END:VEVENT
END:VCALENDAR
