BEGIN:VCALENDAR
PRODID:-//eluceo/ical//2.0/EN
VERSION:2.0
CALSCALE:GREGORIAN
BEGIN:VEVENT
UID:29235439e8d85711fb22c4320623dfe2
DTSTAMP:20260423T124825Z
SUMMARY:Jewish Community Center Board Meeting
DESCRIPTION:Jewish Federation of Central Massachusetts\nCalendar\nhttps://j
 ewishcentralmass.org/calendar/jewish-community-center-board-meeting\n\nJCC
  Bd
DTSTART;TZID=America/New_York:20130307T190000
DTEND;TZID=America/New_York:20130307T193000
END:VEVENT
END:VCALENDAR
