BEGIN:VCALENDAR
PRODID:-//eluceo/ical//2.0/EN
VERSION:2.0
CALSCALE:GREGORIAN
BEGIN:VEVENT
UID:dda6704b5e5d816ecc573a965b0e948f
DTSTAMP:20260423T065343Z
SUMMARY:Jewish Community Center Author Series\, Thomas Doherty\, Hollywood 
 & Hitler
DESCRIPTION:Jewish Federation of Central Massachusetts\nCalendar\nhttps://j
 ewishcentralmass.org/calendar/jewish-community-center-author-series-thomas
 -doherty-hollywood--hitler\n\nJCC Author Series
DTSTART;TZID=America/New_York:20140318T190000
DTEND;TZID=America/New_York:20140318T193000
END:VEVENT
END:VCALENDAR
