BEGIN:VCALENDAR
PRODID:-//eluceo/ical//2.0/EN
VERSION:2.0
CALSCALE:GREGORIAN
BEGIN:VEVENT
UID:3fbd9dd092284ccf0c06f71577f92c20
DTSTAMP:20260423T032739Z
SUMMARY:Jewish Community Center Author Series\, The Life & Comedy Allan She
 rman
DESCRIPTION:Jewish Federation of Central Massachusetts\nCalendar\nhttps://j
 ewishcentralmass.org/calendar/jewish-community-center-author-series-the-li
 fe--comedy-allan-sherman\n\nJewish Community Center Author Series
DTSTART;TZID=America/New_York:20131204T190000
DTEND;TZID=America/New_York:20131204T193000
END:VEVENT
END:VCALENDAR
