BEGIN:VCALENDAR
PRODID:-//eluceo/ical//2.0/EN
VERSION:2.0
CALSCALE:GREGORIAN
BEGIN:VEVENT
UID:4e66387f2c83a3f07afcb0e77b2dcfe9
DTSTAMP:20260423T161844Z
SUMMARY:Jewish Community Center Author Series Rachel Herz
DESCRIPTION:Jewish Federation of Central Massachusetts\nCalendar\nhttps://j
 ewishcentralmass.org/calendar/jewish-community-center-author-series-rachel
 -herz\n\nJCC Author Series Rachel Herz
DTSTART;TZID=America/New_York:20130306T190000
DTEND;TZID=America/New_York:20130306T193000
END:VEVENT
END:VCALENDAR
