BEGIN:VCALENDAR
PRODID:-//eluceo/ical//2.0/EN
VERSION:2.0
CALSCALE:GREGORIAN
BEGIN:VEVENT
UID:7bdf539d03a4f599d20e266e1d9c65c9
DTSTAMP:20260422T153615Z
SUMMARY:Jewish Community Center Author Series\, Naomi Schaefer Riley\, Til 
 Faith Do U
DESCRIPTION:Jewish Federation of Central Massachusetts\nCalendar\nhttps://j
 ewishcentralmass.org/calendar/jewish-community-center-author-series-naomi-
 schaefer-riley-til-faith-do-us-part\n\nJCC Author Series
DTSTART;TZID=America/New_York:20140205T130000
DTEND;TZID=America/New_York:20140205T133000
END:VEVENT
END:VCALENDAR
