BEGIN:VCALENDAR
PRODID:-//eluceo/ical//2.0/EN
VERSION:2.0
CALSCALE:GREGORIAN
BEGIN:VEVENT
UID:effe3043b4f04fc29eef8f78c2520c8f
DTSTAMP:20260422T111632Z
SUMMARY:Jewish Community Center Author Series\, Michael Lowenthal
DESCRIPTION:Jewish Federation of Central Massachusetts\nCalendar\nhttps://j
 ewishcentralmass.org/calendar/jewish-community-center-author-series-michae
 l-lowenthal\n\nJCC Author Series
DTSTART;TZID=America/New_York:20140520T190000
DTEND;TZID=America/New_York:20140520T193000
END:VEVENT
END:VCALENDAR
