BEGIN:VCALENDAR
PRODID:-//eluceo/ical//2.0/EN
VERSION:2.0
CALSCALE:GREGORIAN
BEGIN:VEVENT
UID:c09998f8b941edf8493f458c158a099e
DTSTAMP:20260422T200208Z
SUMMARY:Jewish Community Center Author Series\, Maryanne O'Hara & BA Shapir
 o
DESCRIPTION:Jewish Federation of Central Massachusetts\nCalendar\nhttps://j
 ewishcentralmass.org/calendar/jewish-community-center-author-series-maryan
 ne-ohara--ba-shapiro\n\nJCC Author Series
DTSTART;TZID=America/New_York:20140401T190000
DTEND;TZID=America/New_York:20140401T193000
END:VEVENT
END:VCALENDAR
