BEGIN:VCALENDAR
PRODID:-//eluceo/ical//2.0/EN
VERSION:2.0
CALSCALE:GREGORIAN
BEGIN:VEVENT
UID:2082ba81481adc2e7c7da6260848779f
DTSTAMP:20260423T082444Z
SUMMARY:Jewish Community Center Author Series Larry Tye\, Superman
DESCRIPTION:Jewish Federation of Central Massachusetts\nCalendar\nhttps://j
 ewishcentralmass.org/calendar/jewish-community-center-author-series-larry-
 tye-superman\n\nJCC Author Series
DTSTART;TZID=America/New_York:20131010T190000
DTEND;TZID=America/New_York:20131010T193000
END:VEVENT
END:VCALENDAR
