BEGIN:VCALENDAR
PRODID:-//eluceo/ical//2.0/EN
VERSION:2.0
CALSCALE:GREGORIAN
BEGIN:VEVENT
UID:62a9ce04c9b2e31eee99d2f943564fc8
DTSTAMP:20260422T092941Z
SUMMARY:Jewish Community Center Author Series Joy Ladin
DESCRIPTION:Jewish Federation of Central Massachusetts\nCalendar\nhttps://j
 ewishcentralmass.org/calendar/jewish-community-center-author-series-joy-la
 din\n\nJCC Author Series Joy Ladin
DTSTART;TZID=America/New_York:20130521T190000
DTEND;TZID=America/New_York:20130521T193000
END:VEVENT
END:VCALENDAR
