BEGIN:VCALENDAR
PRODID:-//eluceo/ical//2.0/EN
VERSION:2.0
CALSCALE:GREGORIAN
BEGIN:VEVENT
UID:c4bd77f91048a2798a855bc400326250
DTSTAMP:20260420T192122Z
SUMMARY:Jewish Community Center Author Series\, Jeffrey Salkin\, The Hidden
  LEgacy of
DESCRIPTION:Jewish Federation of Central Massachusetts\nCalendar\nhttps://j
 ewishcentralmass.org/calendar/jewish-community-center-author-series-jeffre
 y-salkin-the-hidden-legacy-of-abraham\n\nJCC Author Series
DTSTART;TZID=America/New_York:20140112T100000
DTEND;TZID=America/New_York:20140112T103000
END:VEVENT
END:VCALENDAR
