BEGIN:VCALENDAR
PRODID:-//eluceo/ical//2.0/EN
VERSION:2.0
CALSCALE:GREGORIAN
BEGIN:VEVENT
UID:1e6cc83381d425cf8af6897e778bd50a
DTSTAMP:20260422T220404Z
SUMMARY:Jewish Community Center Author Series\, Hallie Ephron\, There Was a
 n Old Wome
DESCRIPTION:Jewish Federation of Central Massachusetts\nCalendar\nhttps://j
 ewishcentralmass.org/calendar/jewish-community-center-author-series-hallie
 -ephron-there-was-an-old-women\n\nJCC Author Series
DTSTART;TZID=America/New_York:20140305T190000
DTEND;TZID=America/New_York:20140305T193000
END:VEVENT
END:VCALENDAR
