BEGIN:VCALENDAR
PRODID:-//eluceo/ical//2.0/EN
VERSION:2.0
CALSCALE:GREGORIAN
BEGIN:VEVENT
UID:6c833b3cc1ea3a59d9c828f5617fe514
DTSTAMP:20260422T212144Z
SUMMARY:Jewish Community Center Author Series featuring Deborah Dwork
DESCRIPTION:Jewish Federation of Central Massachusetts\nCalendar\nhttps://j
 ewishcentralmass.org/calendar/jewish-community-center-author-series-featur
 ing-deborah-dwork\n\nJCC Author Series Deborah Dwork
DTSTART;TZID=America/New_York:20130404T190000
DTEND;TZID=America/New_York:20130404T193000
END:VEVENT
END:VCALENDAR
