BEGIN:VCALENDAR
PRODID:-//eluceo/ical//2.0/EN
VERSION:2.0
CALSCALE:GREGORIAN
BEGIN:VEVENT
UID:7aca8948137a469c793aac7267bccb14
DTSTAMP:20260423T034232Z
SUMMARY:Jewish Community Center Author Series\, Deborah Fineblum\, Memoir W
 orkbook
DESCRIPTION:Jewish Federation of Central Massachusetts\nCalendar\nhttps://j
 ewishcentralmass.org/calendar/jewish-community-center-author-series-debora
 h-fineblum-memoir-workbook\n\nJCC Author Series
DTSTART;TZID=America/New_York:20131021T140000
DTEND;TZID=America/New_York:20131021T143000
END:VEVENT
END:VCALENDAR
