BEGIN:VCALENDAR
PRODID:-//eluceo/ical//2.0/EN
VERSION:2.0
CALSCALE:GREGORIAN
BEGIN:VEVENT
UID:a9a63c26594a5e1acac63ea8924fa45b
DTSTAMP:20260423T112342Z
SUMMARY:Jewish Community Center Annual Meeting
DESCRIPTION:Jewish Federation of Central Massachusetts\nCalendar\nhttps://j
 ewishcentralmass.org/calendar/jewish-community-center-annual-meeting\n\nJC
 C Annual Mtg
DTSTART;TZID=America/New_York:20130620T180000
DTEND;TZID=America/New_York:20130620T193000
END:VEVENT
END:VCALENDAR
