BEGIN:VCALENDAR
PRODID:-//eluceo/ical//2.0/EN
VERSION:2.0
CALSCALE:GREGORIAN
BEGIN:VEVENT
UID:ef1aaf13602c1d3ab857c0832e8a9d6a
DTSTAMP:20260422T034236Z
SUMMARY:JCC/WAM Hanukkah Event 2024
DESCRIPTION:Jewish Federation of Central Massachusetts\nCalendar\nhttps://j
 ewishcentralmass.org/calendar/jccwam-hanukkah-event-2024\n\nJCC/ WAM Hanuk
 kah Event\n\nTime: TBD
DTSTART;TZID=America/New_York:20231203T100000
DTEND;TZID=America/New_York:20231203T150000
END:VEVENT
END:VCALENDAR
