BEGIN:VCALENDAR
PRODID:-//eluceo/ical//2.0/EN
VERSION:2.0
CALSCALE:GREGORIAN
BEGIN:VEVENT
UID:e00d68fabc00bcda826d79371e6084e5
DTSTAMP:20260424T193346Z
SUMMARY:JCCC Author Program
DESCRIPTION:Jewish Federation of Central Massachusetts\nCalendar\nhttps://j
 ewishcentralmass.org/calendar/jccc-author-program\n\nJCC Author Program\n\
 n7:00 pm
DTSTART;TZID=America/New_York:20231023T190000
DTEND;TZID=America/New_York:20231023T210000
END:VEVENT
END:VCALENDAR
