BEGIN:VCALENDAR
PRODID:-//eluceo/ical//2.0/EN
VERSION:2.0
CALSCALE:GREGORIAN
BEGIN:VEVENT
UID:9c08ff55aafbf19494251a5d665548f8
DTSTAMP:20260422T014033Z
SUMMARY:JCC/WAM Hanukkah Event 2024
DESCRIPTION:Jewish Federation of Central Massachusetts\nCalendar\nhttps://j
 ewishcentralmass.org/calendar/jcc-wam-hanukkah-2024\n\nJCC and WAM Hanukka
 h Event 2024
DTSTART;TZID=America/New_York:20241208T110000
DTEND;TZID=America/New_York:20241208T150000
END:VEVENT
END:VCALENDAR
