BEGIN:VCALENDAR
PRODID:-//eluceo/ical//2.0/EN
VERSION:2.0
CALSCALE:GREGORIAN
BEGIN:VEVENT
UID:6299607b4494de81a4bcd4a531c33dff
DTSTAMP:20260425T143711Z
SUMMARY:JCC & WAM Chanukah Celebration
DESCRIPTION:Jewish Federation of Central Massachusetts\nCalendar\nhttps://j
 ewishcentralmass.org/calendar/jcc-wam-chanukah-celebration\n\nJCC & WAM Ch
 anukah Celebration\n\n11:00 am - 3:00 pm
DTSTART;TZID=America/New_York:20211205T110000
DTEND;TZID=America/New_York:20211205T150000
END:VEVENT
END:VCALENDAR
