BEGIN:VCALENDAR
PRODID:-//eluceo/ical//2.0/EN
VERSION:2.0
CALSCALE:GREGORIAN
BEGIN:VEVENT
UID:f97ed0a82ea9208d6dc9a07a0669aab4
DTSTAMP:20260421T004625Z
SUMMARY:JCC Vendor Fair 2022
DESCRIPTION:Jewish Federation of Central Massachusetts\nCalendar\nhttps://j
 ewishcentralmass.org/calendar/jcc-vendor-fair-2022\n\nJCC Vendor Fair\n\n1
 0:00 am - 3:00 pm
DTSTART;TZID=America/New_York:20221211T100000
DTEND;TZID=America/New_York:20221211T150000
END:VEVENT
END:VCALENDAR
