BEGIN:VCALENDAR
PRODID:-//eluceo/ical//2.0/EN
VERSION:2.0
CALSCALE:GREGORIAN
BEGIN:VEVENT
UID:b511300aed64c467f9cdf60b13acf17e
DTSTAMP:20260422T114319Z
SUMMARY:JCC - Vendor Fair
DESCRIPTION:Jewish Federation of Central Massachusetts\nCalendar\nhttps://j
 ewishcentralmass.org/calendar/jcc-vendor-fair\n\nJCC - Vendor Fair 10:00 a
 m - 2:00 pm
DTSTART;TZID=America/New_York:20211114T100000
DTEND;TZID=America/New_York:20211114T140000
END:VEVENT
END:VCALENDAR
