BEGIN:VCALENDAR
PRODID:-//eluceo/ical//2.0/EN
VERSION:2.0
CALSCALE:GREGORIAN
BEGIN:VEVENT
UID:14b59856cf64b06bd5c16e2ee17264d1
DTSTAMP:20260423T162923Z
SUMMARY:JCC - Touch a Truck 2024
DESCRIPTION:Jewish Federation of Central Massachusetts\nCalendar\nhttps://j
 ewishcentralmass.org/calendar/jcc-touch-a-truck-2024\n\nJCC Touch a Truck\
 n\nTime - TBD
DTSTART;TZID=America/New_York:20240519T100000
DTEND;TZID=America/New_York:20240519T140000
END:VEVENT
END:VCALENDAR
