BEGIN:VCALENDAR
PRODID:-//eluceo/ical//2.0/EN
VERSION:2.0
CALSCALE:GREGORIAN
BEGIN:VEVENT
UID:1b5f03d1b2f83642b39a224d1795afa3
DTSTAMP:20260423T145813Z
SUMMARY:JCC - Touch a Truck 2023
DESCRIPTION:Jewish Federation of Central Massachusetts\nCalendar\nhttps://j
 ewishcentralmass.org/calendar/jcc-touch-a-truck-2023\n\nJCC Touch A Truck\
 n\n10:00 am - 3:00 pm
DTSTART;TZID=America/New_York:20230507T100000
DTEND;TZID=America/New_York:20230507T150000
END:VEVENT
END:VCALENDAR
