BEGIN:VCALENDAR
PRODID:-//eluceo/ical//2.0/EN
VERSION:2.0
CALSCALE:GREGORIAN
BEGIN:VEVENT
UID:af3021f48f0ccf93960a309e5e232400
DTSTAMP:20260424T005043Z
SUMMARY:JCC Touch A Truck
DESCRIPTION:Jewish Federation of Central Massachusetts\nCalendar\nhttps://j
 ewishcentralmass.org/calendar/jcc-touch-a-truck\n\nJCC Touch a Truck presc
 hool event\n 
DTSTART;TZID=America/New_York:20190519T110000
DTEND;TZID=America/New_York:20190519T150000
END:VEVENT
END:VCALENDAR
