BEGIN:VCALENDAR
PRODID:-//eluceo/ical//2.0/EN
VERSION:2.0
CALSCALE:GREGORIAN
BEGIN:VEVENT
UID:a77dbd537506be81a20c6f47e16c343a
DTSTAMP:20260422T064830Z
SUMMARY:JCC - Open House Mbr & PS
DESCRIPTION:Jewish Federation of Central Massachusetts\nCalendar\nhttps://j
 ewishcentralmass.org/calendar/jcc-open-house-mbr-ps\n\nJCC - Open House Mb
 r & PS
DTSTART;TZID=America/New_York:20220109T110000
DTEND;TZID=America/New_York:20220109T150000
END:VEVENT
END:VCALENDAR
