BEGIN:VCALENDAR
PRODID:-//eluceo/ical//2.0/EN
VERSION:2.0
CALSCALE:GREGORIAN
BEGIN:VEVENT
UID:64764466d74ba3b56d8dfa984abe766c
DTSTAMP:20260423T102812Z
SUMMARY:JCC Member & EC Open House
DESCRIPTION:Jewish Federation of Central Massachusetts\nCalendar\nhttps://j
 ewishcentralmass.org/calendar/jcc-member-ec-open-house\n\nJCC Member & EC 
 Open House\n\n10:00 am - 2:00 pm
DTSTART;TZID=America/New_York:20230108T100000
DTEND;TZID=America/New_York:20230108T140000
END:VEVENT
END:VCALENDAR
