BEGIN:VCALENDAR
PRODID:-//eluceo/ical//2.0/EN
VERSION:2.0
CALSCALE:GREGORIAN
BEGIN:VEVENT
UID:d8f05ba25a2cba7d56be707cd64fc6d1
DTSTAMP:20260423T042457Z
SUMMARY:JCC Hanukkah Worcester Art Museum
DESCRIPTION:Jewish Federation of Central Massachusetts\nCalendar\nhttps://j
 ewishcentralmass.org/calendar/jcc-hanukkah-worcester-art-museum\n\nJCC Han
 ukkah Worcester Art Museum\n\n10:00 am - 3:00 pm
DTSTART;TZID=America/New_York:20221204T100000
DTEND;TZID=America/New_York:20221204T150000
END:VEVENT
END:VCALENDAR
