BEGIN:VCALENDAR
PRODID:-//eluceo/ical//2.0/EN
VERSION:2.0
CALSCALE:GREGORIAN
BEGIN:VEVENT
UID:06827d910ce2d11f1e4bbfb0861e88b5
DTSTAMP:20260421T165829Z
SUMMARY:JCC Good Deeds Day 2024
DESCRIPTION:Jewish Federation of Central Massachusetts\nCalendar\nhttps://j
 ewishcentralmass.org/calendar/jcc-good-deeds-day-2024\n\nJCC Good Deeds Da
 y\n\n10:00 am
DTSTART;TZID=America/New_York:20240414T100000
DTEND;TZID=America/New_York:20240414T150000
END:VEVENT
END:VCALENDAR
