BEGIN:VCALENDAR
PRODID:-//eluceo/ical//2.0/EN
VERSION:2.0
CALSCALE:GREGORIAN
BEGIN:VEVENT
UID:b5e5a3442dbde5d255258a19c4b454cf
DTSTAMP:20260423T065506Z
SUMMARY:JCC Good Deeds Day 2023
DESCRIPTION:Jewish Federation of Central Massachusetts\nCalendar\nhttps://j
 ewishcentralmass.org/calendar/jcc-good-deeds-day-2023\n\nJCC Good Deeds Da
 y\n\n10:00 am - 1:00 pm
DTSTART;TZID=America/New_York:20230416T100000
DTEND;TZID=America/New_York:20230416T130000
END:VEVENT
END:VCALENDAR
