BEGIN:VCALENDAR
PRODID:-//eluceo/ical//2.0/EN
VERSION:2.0
CALSCALE:GREGORIAN
BEGIN:VEVENT
UID:37a77b577b751a5ff28e454697beaf60
DTSTAMP:20260423T025645Z
SUMMARY:JCC - Good Deeds Day 2022
DESCRIPTION:Jewish Federation of Central Massachusetts\nCalendar\nhttps://j
 ewishcentralmass.org/calendar/jcc-good-deeds-day-2022\n\nJCC - Good Deeds 
 Day\n\nGood Deeds Day – Sunday\, April 3\, 10 am – 12 noon in person a
 t JCC\; which kicks off Good Deeds Week\, which runs through April 10th
DTSTART;TZID=America/New_York:20220403T100000
DTEND;TZID=America/New_York:20220403T120000
END:VEVENT
END:VCALENDAR
