BEGIN:VCALENDAR
PRODID:-//eluceo/ical//2.0/EN
VERSION:2.0
CALSCALE:GREGORIAN
BEGIN:VEVENT
UID:f011435974ce386b20e4b7a895c99fb1
DTSTAMP:20260422T172618Z
SUMMARY:JCC Gala 2025
DESCRIPTION:Jewish Federation of Central Massachusetts\nCalendar\nhttps://j
 ewishcentralmass.org/calendar/jcc-gala-2025\n\nJCC Gala
DTSTART;TZID=America/New_York:20250222T180000
DTEND;TZID=America/New_York:20250222T230000
END:VEVENT
END:VCALENDAR
