BEGIN:VCALENDAR
PRODID:-//eluceo/ical//2.0/EN
VERSION:2.0
CALSCALE:GREGORIAN
BEGIN:VEVENT
UID:73b833756da4f19fb8b32f0ea980cb61
DTSTAMP:20260422T201514Z
SUMMARY:JCC Gala 2024
DESCRIPTION:Jewish Federation of Central Massachusetts\nCalendar\nhttps://j
 ewishcentralmass.org/calendar/jcc-gala-2024\n\nJCC Gala\n\n6:00 pm
DTSTART;TZID=America/New_York:20240302T180000
DTEND;TZID=America/New_York:20240302T200000
END:VEVENT
END:VCALENDAR
