BEGIN:VCALENDAR
PRODID:-//eluceo/ical//2.0/EN
VERSION:2.0
CALSCALE:GREGORIAN
BEGIN:VEVENT
UID:086a635aee304b379cff6b443b792461
DTSTAMP:20260424T002045Z
SUMMARY:JCC Gala 2023
DESCRIPTION:Jewish Federation of Central Massachusetts\nCalendar\nhttps://j
 ewishcentralmass.org/calendar/jcc-gala-2023\n\nJCC Gala\n\n6:00 pm
DTSTART;TZID=America/New_York:20230304T180000
DTEND;TZID=America/New_York:20230304T200000
END:VEVENT
END:VCALENDAR
