BEGIN:VCALENDAR
PRODID:-//eluceo/ical//2.0/EN
VERSION:2.0
CALSCALE:GREGORIAN
BEGIN:VEVENT
UID:05a75a1a2971af715b546bf53bf40ffc
DTSTAMP:20260422T040308Z
SUMMARY:JCC Gala 2022
DESCRIPTION:Jewish Federation of Central Massachusetts\nCalendar\nhttps://j
 ewishcentralmass.org/calendar/jcc-gala-2022\n\nJCC Gala
DTSTART;TZID=America/New_York:20220312T180000
DTEND;TZID=America/New_York:20220312T230000
END:VEVENT
END:VCALENDAR
