BEGIN:VCALENDAR
PRODID:-//eluceo/ical//2.0/EN
VERSION:2.0
CALSCALE:GREGORIAN
BEGIN:VEVENT
UID:3c3a26f4f59dc2824cb2d0174a3f6dbe
DTSTAMP:20260424T231207Z
SUMMARY:JCC Gala 2021
DESCRIPTION:Jewish Federation of Central Massachusetts\nCalendar\nhttps://j
 ewishcentralmass.org/calendar/jcc-gala-2021\n\nJCC Annual Gala
DTSTART;TZID=America/New_York:20210313T170000
DTEND;TZID=America/New_York:20210313T210000
END:VEVENT
END:VCALENDAR
