BEGIN:VCALENDAR
PRODID:-//eluceo/ical//2.0/EN
VERSION:2.0
CALSCALE:GREGORIAN
BEGIN:VEVENT
UID:79fdfca366b9f4099c57a3347feb48e3
DTSTAMP:20260424T235009Z
SUMMARY:JCC Financial Meeting
DESCRIPTION:Jewish Federation of Central Massachusetts\nCalendar\nhttps://j
 ewishcentralmass.org/calendar/jcc-financial-meeting\n\nJCC Financial Meeti
 ng at 7:30pm
DTSTART;TZID=America/New_York:20200922T193000
DTEND;TZID=America/New_York:20200922T213000
END:VEVENT
END:VCALENDAR
