BEGIN:VCALENDAR
PRODID:-//eluceo/ical//2.0/EN
VERSION:2.0
CALSCALE:GREGORIAN
BEGIN:VEVENT
UID:07835f8aa1d4dc03c193c12758a62bf9
DTSTAMP:20260423T041646Z
SUMMARY:JCC Fin Meeting
DESCRIPTION:Jewish Federation of Central Massachusetts\nCalendar\nhttps://j
 ewishcentralmass.org/calendar/jcc-fin-meeting\n\nJCC Fin Meeting at 7:30
DTSTART;TZID=America/New_York:20201020T193000
DTEND;TZID=America/New_York:20201020T213000
END:VEVENT
END:VCALENDAR
