BEGIN:VCALENDAR
PRODID:-//eluceo/ical//2.0/EN
VERSION:2.0
CALSCALE:GREGORIAN
BEGIN:VEVENT
UID:1ea261aaff32f7460e9d6d4292124171
DTSTAMP:20260425T150832Z
SUMMARY:JCC Film - November 2022
DESCRIPTION:Jewish Federation of Central Massachusetts\nCalendar\nhttps://j
 ewishcentralmass.org/calendar/jcc-film-november-2022\n\nJCC Film\n\n7:00 p
 m
DTSTART;TZID=America/New_York:20221105T190000
DTEND;TZID=America/New_York:20221105T210000
END:VEVENT
END:VCALENDAR
