BEGIN:VCALENDAR
PRODID:-//eluceo/ical//2.0/EN
VERSION:2.0
CALSCALE:GREGORIAN
BEGIN:VEVENT
UID:f8beda580f4ee30e797dae2c7b3b5e42
DTSTAMP:20260422T082001Z
SUMMARY:JCC ECC Book Fair
DESCRIPTION:Jewish Federation of Central Massachusetts\nCalendar\nhttps://j
 ewishcentralmass.org/calendar/jcc-ecc-book-fair\n\nJCC ECC Book Fair\n\n11
 /13-19
DTSTART;TZID=America/New_York:20231113T090000
DTEND;TZID=America/New_York:20231119T150000
END:VEVENT
END:VCALENDAR
