BEGIN:VCALENDAR
PRODID:-//eluceo/ical//2.0/EN
VERSION:2.0
CALSCALE:GREGORIAN
BEGIN:VEVENT
UID:a18cca2ee73390128269f3c8e37d269e
DTSTAMP:20260422T124257Z
SUMMARY:JCC - Cider in the Sukkah
DESCRIPTION:Jewish Federation of Central Massachusetts\nCalendar\nhttps://j
 ewishcentralmass.org/calendar/jcc-cider-in-the-sukkah\n\n October 9: \n\n
 JCC - Cider in the Sukkah 8-10am
DTSTART;TZID=America/New_York:20251009T080000
DTEND;TZID=America/New_York:20251009T100000
END:VEVENT
END:VCALENDAR
